BEGIN:VCALENDAR
VERSION:2.0
PRODID:SchoolNow
CALSCALE:GREGORIAN
BEGIN:VEVENT
UID:2922a6fa-7350-11ee-8c8d-0a4d7c5ab48d
DTSTAMP:20240130T170443Z
SUMMARY:Spring 2024- Final Exams Days
URL;VALUE=URI:https://www.ladelta.edu/calendar/4899472/2024-spring-final-ex
 ams-days
DTSTART;VALUE=DATE:20240429
DTEND;VALUE=DATE:20240504
END:VEVENT
END:VCALENDAR
