BEGIN:VCALENDAR
VERSION:2.0
PRODID:SchoolNow
CALSCALE:GREGORIAN
BEGIN:VEVENT
UID:32c92f58-7350-11ee-9a5d-0a58a9feac02
DTSTAMP:20240130T170453Z
SUMMARY:Spring 2024- Final day of classes-Official end of semester date
URL;VALUE=URI:https://www.ladelta.edu/calendar/4899473/2024-spring-final-da
 y-of-classes-official-end-of-semester-date
DTSTART;VALUE=DATE:20240503
DTEND;VALUE=DATE:20240504
END:VEVENT
END:VCALENDAR
