BEGIN:VCALENDAR
VERSION:2.0
PRODID:SchoolNow
CALSCALE:GREGORIAN
BEGIN:VEVENT
UID:40363c1c-7350-11ee-95c7-0a58a9feac02
DTSTAMP:20231025T160500Z
SUMMARY:2024 Spring Commencement Day.
URL;VALUE=URI:https://www.ladelta.edu/calendar/4899474/2024-spring-commence
 ment-day
DTSTART;VALUE=DATE:20240513
DTEND;VALUE=DATE:20240514
END:VEVENT
END:VCALENDAR
