BEGIN:VCALENDAR
VERSION:2.0
PRODID:SchoolNow
CALSCALE:GREGORIAN
BEGIN:VEVENT
UID:974df648-7350-11ee-bb90-026c61414fe9
DTSTAMP:20240130T170344Z
SUMMARY:Spring 2024- Midterms due for 2nd 8 Week Courses
URL;VALUE=URI:https://www.ladelta.edu/calendar/4899475/2024-spring-midterms
 -due-for-2nd-8-week-courses
DTSTART;VALUE=DATE:20240401
DTEND;VALUE=DATE:20240402
END:VEVENT
END:VCALENDAR
