BEGIN:VCALENDAR
VERSION:2.0
PRODID:SchoolNow
CALSCALE:GREGORIAN
BEGIN:VEVENT
UID:4d7431c0-b6ff-11ee-bc35-0a58a9feac02
DTSTAMP:20240119T191737Z
SUMMARY:Spring 2024-Last Day for Financial Aid Book Credit for Classes for 
 Full Term and 1st Half Term
URL;VALUE=URI:https://www.ladelta.edu/calendar/5179961/last-day-for-financi
 al-aid-book-credit-for-classes-for-full-term-and-1st-half-term
DTSTART;VALUE=DATE:20240131
DTEND;VALUE=DATE:20240201
END:VEVENT
END:VCALENDAR
