BEGIN:VCALENDAR
VERSION:2.0
PRODID:SchoolNow
CALSCALE:GREGORIAN
BEGIN:VEVENT
UID:959b2576-b6ff-11ee-8a1e-0a58a9feac02
DTSTAMP:20240119T191853Z
SUMMARY:Spring 2024- First Financial Aid Disbursement for Winter-Term\, Ful
 l Term\, and 1st Half Term classes
URL;VALUE=URI:https://www.ladelta.edu/calendar/5179962/spring-2024-first-fi
 nancial-aid-disbursement-for-winter-term-full-term-and-1st-half-term-class
 es
DTSTART;VALUE=DATE:20240206
DTEND;VALUE=DATE:20240207
END:VEVENT
END:VCALENDAR
