BEGIN:VCALENDAR
VERSION:2.0
PRODID:SchoolNow
CALSCALE:GREGORIAN
BEGIN:VEVENT
UID:cd504abe-b6ff-11ee-962c-0a58a9feac02
DTSTAMP:20240119T192027Z
SUMMARY:Spring 2024- LDCC Foundation Hats & Horses
URL;VALUE=URI:https://www.ladelta.edu/calendar/5179963/spring-2024-ldcc-fou
 ndation-hats-horses
DTSTART;VALUE=DATE:20240504
DTEND;VALUE=DATE:20240505
END:VEVENT
END:VCALENDAR
