BEGIN:VCALENDAR
VERSION:2.0
PRODID:SchoolNow
CALSCALE:GREGORIAN
BEGIN:VEVENT
UID:e327e1bc-b6ff-11ee-ac05-0eaa565a5ae5
DTSTAMP:20240119T192248Z
SUMMARY:Spring 2024- Faculty Development
URL;VALUE=URI:https://www.ladelta.edu/calendar/5179964/spring-2024-faculty-
 development
DTSTART;VALUE=DATE:20240507
DTEND;VALUE=DATE:20240511
END:VEVENT
END:VCALENDAR
