BEGIN:VCALENDAR
VERSION:2.0
PRODID:SchoolNow
CALSCALE:GREGORIAN
BEGIN:VEVENT
UID:07bf9114-b700-11ee-bfec-0a58a9feac02
DTSTAMP:20240119T192205Z
SUMMARY:Spring 2024- Faculty Development
URL;VALUE=URI:https://www.ladelta.edu/calendar/5179965/spring-2024-faculty-
 development
DTSTART;VALUE=DATE:20240513
DTEND;VALUE=DATE:20240515
END:VEVENT
END:VCALENDAR
