BEGIN:VCALENDAR
VERSION:2.0
PRODID:SchoolNow
CALSCALE:GREGORIAN
BEGIN:VEVENT
UID:440998d6-b700-11ee-8e10-0270a20961bf
DTSTAMP:20240119T192346Z
SUMMARY:Spring 2024- Employee Grill & Chill
URL;VALUE=URI:https://www.ladelta.edu/calendar/5179966/spring-2024-employee
 -grill-chill
DTSTART;VALUE=DATE:20240510
DTEND;VALUE=DATE:20240511
END:VEVENT
END:VCALENDAR
