BEGIN:VCALENDAR
VERSION:2.0
PRODID:SchoolNow
CALSCALE:GREGORIAN
BEGIN:VEVENT
UID:59786986-b700-11ee-8cf4-0a923cfb912b
DTSTAMP:20240119T192422Z
SUMMARY:Spring 2024- SAP Review & Unofficial Withdrawal Review
URL;VALUE=URI:https://www.ladelta.edu/calendar/5179967/spring-2024-sap-revi
 ew-unofficial-withdrawal-review
DTSTART;VALUE=DATE:20240513
DTEND;VALUE=DATE:20240514
END:VEVENT
END:VCALENDAR
