BEGIN:VCALENDAR
VERSION:2.0
PRODID:SchoolNow
CALSCALE:GREGORIAN
BEGIN:VEVENT
UID:86cf93dc-b700-11ee-8ff9-0e2bd025b0dd
DTSTAMP:20240119T192538Z
SUMMARY:Spring 2024- Financial Aid Book Credit begins for 2nd Half Term Cou
 rses
URL;VALUE=URI:https://www.ladelta.edu/calendar/5179968/spring-2024-financia
 l-aid-book-credit-begins-for-2nd-half-term-courses
DTSTART;VALUE=DATE:20240304
DTEND;VALUE=DATE:20240305
END:VEVENT
END:VCALENDAR
