BEGIN:VCALENDAR
VERSION:2.0
PRODID:SchoolNow
CALSCALE:GREGORIAN
BEGIN:VEVENT
UID:9b82de10-b700-11ee-8083-0282dc28a66b
DTSTAMP:20240119T192613Z
SUMMARY:Spring 2024- Last Day for Financial Aid Book Credit for 2nd Half Te
 rm Courses
URL;VALUE=URI:https://www.ladelta.edu/calendar/5179969/spring-2024-last-day
 -for-financial-aid-book-credit-for-2nd-half-term-courses
DTSTART;VALUE=DATE:20240311
DTEND;VALUE=DATE:20240312
END:VEVENT
END:VCALENDAR
