BEGIN:VCALENDAR
VERSION:2.0
PRODID:SchoolNow
CALSCALE:GREGORIAN
BEGIN:VEVENT
UID:cb936d36-b700-11ee-bced-0a58a9feac02
DTSTAMP:20240124T193118Z
SUMMARY:Spring 2024- 1st Payment Deadline and Purge for 2nd Half Term Cours
 es
URL;VALUE=URI:https://www.ladelta.edu/calendar/5179970/spring-2024-1st-paym
 ent-deadline-and-purge-for-2nd-half-term-courses
DTSTART:20240229T200000Z
DTEND:20240229T203400Z
END:VEVENT
END:VCALENDAR
