BEGIN:VCALENDAR
VERSION:2.0
PRODID:SchoolNow
CALSCALE:GREGORIAN
BEGIN:VEVENT
UID:273f96da-baf0-11ee-813d-0a58a9feac02
DTSTAMP:20240124T193830Z
SUMMARY:Spring 2024- 2nd Half Term Late Registration
URL;VALUE=URI:https://www.ladelta.edu/calendar/5203105/spring-2024-2nd-half
 -term-late-registration
DTSTART;VALUE=DATE:20240301
DTEND;VALUE=DATE:20240306
END:VEVENT
END:VCALENDAR
