BEGIN:VCALENDAR
VERSION:2.0
PRODID:SchoolNow
CALSCALE:GREGORIAN
BEGIN:VEVENT
UID:66553348-baf0-11ee-b9c4-02e0b1f73243
DTSTAMP:20240124T194016Z
SUMMARY:Spring 2024- 2nd Half Term Final Payment  Deadline
URL;VALUE=URI:https://www.ladelta.edu/calendar/5203120/spring-2024-2nd-half
 -term-final-payment-deadline
DTSTART;VALUE=DATE:20240305
DTEND;VALUE=DATE:20240306
END:VEVENT
END:VCALENDAR
