BEGIN:VCALENDAR
VERSION:2.0
PRODID:SchoolNow
CALSCALE:GREGORIAN
BEGIN:VEVENT
UID:8a049c66-baf0-11ee-b578-0a58a9feac02
DTSTAMP:20240124T194116Z
SUMMARY:Spring 2024- 2nd Half Term First Financial Aid Disbursement
URL;VALUE=URI:https://www.ladelta.edu/calendar/5203122/spring-2024-2nd-half
 -term-first-financial-aid-disbursement
DTSTART;VALUE=DATE:20240319
DTEND;VALUE=DATE:20240320
END:VEVENT
END:VCALENDAR
