BEGIN:VCALENDAR
VERSION:2.0
PRODID:SchoolNow
CALSCALE:GREGORIAN
BEGIN:VEVENT
UID:bf062c3c-bf90-11ee-ad45-0a58a9feac02
DTSTAMP:20240130T170947Z
SUMMARY:Summer and Fall 2024- Veteran Student Advising/Registration Begins
URL;VALUE=URI:https://www.ladelta.edu/calendar/5230637/veteran-student-advi
 sing-registration-begins
DTSTART;VALUE=DATE:20240321
DTEND;VALUE=DATE:20240322
END:VEVENT
END:VCALENDAR
