BEGIN:VCALENDAR
VERSION:2.0
PRODID:SchoolNow
CALSCALE:GREGORIAN
BEGIN:VEVENT
UID:e8a2b9a2-bf90-11ee-ad12-0a58a9feac02
DTSTAMP:20240130T171040Z
SUMMARY:Summer and Fall 2024- Currently Enrolled Students Advising/Registra
 tion Begins
URL;VALUE=URI:https://www.ladelta.edu/calendar/5230638/currently-enrolled-s
 tudents-advising-registration-begins
DTSTART;VALUE=DATE:20240325
DTEND;VALUE=DATE:20240326
END:VEVENT
END:VCALENDAR
