BEGIN:VCALENDAR
VERSION:2.0
PRODID:SchoolNow
CALSCALE:GREGORIAN
BEGIN:VEVENT
UID:f6088d10-bf90-11ee-b53b-0a70758ddaad
DTSTAMP:20240130T171100Z
SUMMARY:Summer and Fall 2024- New Student Advising/Registration Begins
URL;VALUE=URI:https://www.ladelta.edu/calendar/5230639/new-student-advising
 -registration-begins
DTSTART;VALUE=DATE:20240401
DTEND;VALUE=DATE:20240402
END:VEVENT
END:VCALENDAR
