BEGIN:VCALENDAR
VERSION:2.0
PRODID:SchoolNow
CALSCALE:GREGORIAN
BEGIN:VEVENT
UID:14bac016-bf91-11ee-8daf-0a58a9feac02
DTSTAMP:20240130T170033Z
SUMMARY:Summer 2024- FAFSA Completion Priority Deadline
URL;VALUE=URI:https://www.ladelta.edu/calendar/5230640/summer-2024-fafsa-co
 mpletion-priority-deadline
DTSTART;VALUE=DATE:20240415
DTEND;VALUE=DATE:20240416
END:VEVENT
END:VCALENDAR
