BEGIN:VCALENDAR
VERSION:2.0
PRODID:SchoolNow
CALSCALE:GREGORIAN
BEGIN:VEVENT
UID:cf547e8a-bf91-11ee-ab5a-0a58a9feac02
DTSTAMP:20240130T170546Z
SUMMARY:Summer 2024- SAP Priority Deadline
URL;VALUE=URI:https://www.ladelta.edu/calendar/5230641/summer-2024-sap-prio
 rity-deadline
DTSTART;VALUE=DATE:20240430
DTEND;VALUE=DATE:20240501
END:VEVENT
END:VCALENDAR
