BEGIN:VCALENDAR
VERSION:2.0
PRODID:SchoolNow
CALSCALE:GREGORIAN
BEGIN:VEVENT
UID:e316123e-bf92-11ee-9617-0ec834653b83
DTSTAMP:20240130T171643Z
SUMMARY:Summer 2024- Financial Aid Book Credit Begins for Maymester Classes
URL;VALUE=URI:https://www.ladelta.edu/calendar/5230642/summer-2024-maymeste
 r-financial-aid-book-credit-begins-for-maymester-classes
DTSTART;VALUE=DATE:20240513
DTEND;VALUE=DATE:20240514
END:VEVENT
END:VCALENDAR
