BEGIN:VCALENDAR
VERSION:2.0
PRODID:SchoolNow
CALSCALE:GREGORIAN
BEGIN:VEVENT
UID:f2477eb4-bf92-11ee-9a10-0a10eff556e3
DTSTAMP:20240130T171716Z
SUMMARY:Summer 2024- Last Day for Financial Aid Book Credit for Maymester C
 lasses
URL;VALUE=URI:https://www.ladelta.edu/calendar/5230644/summer-2024-maymeste
 r-last-day-for-financial-aid-book-credit-for-maymester-classes
DTSTART;VALUE=DATE:20240517
DTEND;VALUE=DATE:20240518
END:VEVENT
END:VCALENDAR
