BEGIN:VCALENDAR
VERSION:2.0
PRODID:SchoolNow
CALSCALE:GREGORIAN
BEGIN:VEVENT
UID:15d0d5e2-bf93-11ee-8e68-0a58a9feac02
DTSTAMP:20240130T171454Z
SUMMARY:Summer 2024- Financial Aid Book Credit Begins for Extended Summer\,
  Full Summer and Summer I Classes
URL;VALUE=URI:https://www.ladelta.edu/calendar/5230645/summer-2024-financia
 l-aid-book-credit-begins-for-extended-summer-full-summer-and-summer-i-clas
 ses
DTSTART;VALUE=DATE:20240520
DTEND;VALUE=DATE:20240521
END:VEVENT
END:VCALENDAR
