BEGIN:VCALENDAR
VERSION:2.0
PRODID:SchoolNow
CALSCALE:GREGORIAN
BEGIN:VEVENT
UID:23db3ef2-bf93-11ee-be3f-0ed4dec2d5e1
DTSTAMP:20240130T171517Z
SUMMARY:Summer 2024- Last Day for Financial Aid Book Credit for Extended Su
 mmer\, Full Summer and Summer I Classes
URL;VALUE=URI:https://www.ladelta.edu/calendar/5231475/summer-2024-last-day
 -for-financial-aid-book-credit-for-extended-summer-full-summer-and-summer-
 i-classes
DTSTART;VALUE=DATE:20240607
DTEND;VALUE=DATE:20240608
END:VEVENT
END:VCALENDAR
