BEGIN:VCALENDAR
VERSION:2.0
PRODID:SchoolNow
CALSCALE:GREGORIAN
BEGIN:VEVENT
UID:1f3b668c-bf94-11ee-a57c-02875ce537a3
DTSTAMP:20240130T172400Z
SUMMARY:Summer 2024- Regular Registration Payment Deadline at 2PM (1st Purg
 e)
URL;VALUE=URI:https://www.ladelta.edu/calendar/5231479/summer-2024-regular-
 registration-payment-deadline-at-2pm-1st-purge
DTSTART:20240523T190000Z
DTEND:20240523T214300Z
END:VEVENT
END:VCALENDAR
