BEGIN:VCALENDAR
VERSION:2.0
PRODID:SchoolNow
CALSCALE:GREGORIAN
BEGIN:VEVENT
UID:74f72bec-bf94-11ee-b548-0a58a9feac02
DTSTAMP:20240130T172443Z
SUMMARY:Summer 2024- Regular Registration Payment Deadline at 2PM (1st Purg
 e) for Summer II Classes
URL;VALUE=URI:https://www.ladelta.edu/calendar/5231480/summer-2024-regular-
 registration-payment-deadline-at-2pm-1st-purge-for-summer-ii-classes
DTSTART:20240627T190000Z
DTEND:20240627T200000Z
END:VEVENT
END:VCALENDAR
