BEGIN:VCALENDAR
VERSION:2.0
PRODID:SchoolNow
CALSCALE:GREGORIAN
BEGIN:VEVENT
UID:c8ccaae4-bf94-11ee-bfa3-0a58a9feac02
DTSTAMP:20240130T172703Z
SUMMARY:Summer 2024-Late Registration begins for Summer II Classes
URL;VALUE=URI:https://www.ladelta.edu/calendar/5231482/summer-2024-late-reg
 istration-begins-for-summer-ii-classes
DTSTART;VALUE=DATE:20240628
DTEND;VALUE=DATE:20240629
END:VEVENT
END:VCALENDAR
