BEGIN:VCALENDAR
VERSION:2.0
PRODID:SchoolNow
CALSCALE:GREGORIAN
BEGIN:VEVENT
UID:80dcd0aa-bf95-11ee-8c65-0ac74a3ba04f
DTSTAMP:20240130T173212Z
SUMMARY:Summer 2024- Maymester Classes Begin
URL;VALUE=URI:https://www.ladelta.edu/calendar/5231486/summer-2024-maymeste
 r-classes-begin
DTSTART;VALUE=DATE:20240513
DTEND;VALUE=DATE:20240514
END:VEVENT
END:VCALENDAR
