BEGIN:VCALENDAR
VERSION:2.0
PRODID:SchoolNow
CALSCALE:GREGORIAN
BEGIN:VEVENT
UID:8ff48bdc-bf95-11ee-8adf-02875ce537a3
DTSTAMP:20240130T173238Z
SUMMARY:Summer 2024- Extended Summer Classes Begins
URL;VALUE=URI:https://www.ladelta.edu/calendar/5231487/summer-2024-extended
 -summer-classes-begins
DTSTART;VALUE=DATE:20240520
DTEND;VALUE=DATE:20240521
END:VEVENT
END:VCALENDAR
