BEGIN:VCALENDAR
VERSION:2.0
PRODID:SchoolNow
CALSCALE:GREGORIAN
BEGIN:VEVENT
UID:ad4faa7c-bf95-11ee-8201-0e04a9b97fa9
DTSTAMP:20240130T173327Z
SUMMARY:Summer 2024- Full Summer and Summer I Classes Begin
URL;VALUE=URI:https://www.ladelta.edu/calendar/5231488/summer-2024-full-sum
 mer-and-summer-i-classes-begin
DTSTART;VALUE=DATE:20240603
DTEND;VALUE=DATE:20240604
END:VEVENT
END:VCALENDAR
