BEGIN:VCALENDAR
VERSION:2.0
PRODID:SchoolNow
CALSCALE:GREGORIAN
BEGIN:VEVENT
UID:dd018556-bf95-11ee-bd6b-0a58a9feac02
DTSTAMP:20240501T140811Z
SUMMARY:Summer 2024- Last Day to Add/Drop Maymester Classes
URL;VALUE=URI:https://www.ladelta.edu/calendar/5231490/summer-2024-last-day
 -to-add-drop-maymester-classes
DTSTART;VALUE=DATE:20240513
DTEND;VALUE=DATE:20240514
END:VEVENT
END:VCALENDAR
