BEGIN:VCALENDAR
VERSION:2.0
PRODID:SchoolNow
CALSCALE:GREGORIAN
BEGIN:VEVENT
UID:eb6fb7e8-bf95-11ee-bf7c-0a58a9feac02
DTSTAMP:20240501T140833Z
SUMMARY:Summer 2024- Last Day to Add/Drop Extended Classes
URL;VALUE=URI:https://www.ladelta.edu/calendar/5231491/summer-2024-last-day
 -to-add-drop-extended-classes
DTSTART;VALUE=DATE:20240513
DTEND;VALUE=DATE:20240514
END:VEVENT
END:VCALENDAR
