BEGIN:VCALENDAR
VERSION:2.0
PRODID:SchoolNow
CALSCALE:GREGORIAN
BEGIN:VEVENT
UID:1c1e9b7a-bf96-11ee-868a-0ec834653b83
DTSTAMP:20240130T173633Z
SUMMARY:Summer 2024- Last Day to Drop Maymester Classes with 100% Refund
URL;VALUE=URI:https://www.ladelta.edu/calendar/5231494/summer-2024-last-day
 -to-drop-maymester-classes-with-100-refund
DTSTART;VALUE=DATE:20240514
DTEND;VALUE=DATE:20240515
END:VEVENT
END:VCALENDAR
