BEGIN:VCALENDAR
VERSION:2.0
PRODID:SchoolNow
CALSCALE:GREGORIAN
BEGIN:VEVENT
UID:2930310c-bf96-11ee-8233-0a58a9feac02
DTSTAMP:20240130T173655Z
SUMMARY:Summer 2024- Last Day to Drop Extended Summer Classes with 100% Ref
 und
URL;VALUE=URI:https://www.ladelta.edu/calendar/5231495/summer-2024-last-day
 -to-drop-extended-summer-classes-with-100-refund
DTSTART;VALUE=DATE:20240521
DTEND;VALUE=DATE:20240522
END:VEVENT
END:VCALENDAR
