BEGIN:VCALENDAR
VERSION:2.0
PRODID:SchoolNow
CALSCALE:GREGORIAN
BEGIN:VEVENT
UID:39b85414-bf96-11ee-ae98-0e04a9b97fa9
DTSTAMP:20240130T173722Z
SUMMARY:Summer 2024- Last Day to Drop Full Summer and Summer I Classes with
  100% Refund
URL;VALUE=URI:https://www.ladelta.edu/calendar/5231496/summer-2024-last-day
 -to-drop-full-summer-and-summer-i-classes-with-100-refund
DTSTART;VALUE=DATE:20240604
DTEND;VALUE=DATE:20240605
END:VEVENT
END:VCALENDAR
