BEGIN:VCALENDAR
VERSION:2.0
PRODID:SchoolNow
CALSCALE:GREGORIAN
BEGIN:VEVENT
UID:00a662c8-bf97-11ee-9034-0e04a9b97fa9
DTSTAMP:20240130T174256Z
SUMMARY:Summer 2024- Final Payment Deadline for Maymester Classes at 2PM (2
 nd Purge)
URL;VALUE=URI:https://www.ladelta.edu/calendar/5231498/summer-2024-final-pa
 yment-deadline-for-maymester-classes-at-2pm-2nd-purge
DTSTART:20240516T190000Z
DTEND:20240516T200000Z
END:VEVENT
END:VCALENDAR
