BEGIN:VCALENDAR
VERSION:2.0
PRODID:SchoolNow
CALSCALE:GREGORIAN
BEGIN:VEVENT
UID:16ed292c-bf97-11ee-b401-0a70758ddaad
DTSTAMP:20240130T174334Z
SUMMARY:Summer 2024- Final Payment Deadline for Extended Summer\, Full Summ
 er\, and Summer I Classes at 2PM (2nd Purge)
URL;VALUE=URI:https://www.ladelta.edu/calendar/5231499/summer-2024-final-pa
 yment-deadline-for-extended-summer-full-summer-and-summer-i-classes-at-2pm
 -2nd-purge
DTSTART:20240606T190000Z
DTEND:20240606T200000Z
END:VEVENT
END:VCALENDAR
