BEGIN:VCALENDAR
VERSION:2.0
PRODID:SchoolNow
CALSCALE:GREGORIAN
BEGIN:VEVENT
UID:63198638-bf97-11ee-b65b-0a58a9feac02
DTSTAMP:20240130T174541Z
SUMMARY:Summer 2024- Last Day for 50% Tuition Refund for Extended Summer an
 d Full Summer Classes
URL;VALUE=URI:https://www.ladelta.edu/calendar/5231503/summer-2024-last-day
 -for-50-tuition-refund-for-extended-summer-and-full-summer-classes
DTSTART;VALUE=DATE:20240610
DTEND;VALUE=DATE:20240611
END:VEVENT
END:VCALENDAR
