BEGIN:VCALENDAR
VERSION:2.0
PRODID:SchoolNow
CALSCALE:GREGORIAN
BEGIN:VEVENT
UID:80e2f96a-bf97-11ee-b4dd-0a58a9feac02
DTSTAMP:20240130T174631Z
SUMMARY:Summer 2024- Financial Aid Disbursement for Maymester\, Extended Su
 mmer\, Full Summer and Summer I Classes
URL;VALUE=URI:https://www.ladelta.edu/calendar/5231504/summer-2024-financia
 l-aid-disbursement-for-maymester-extended-summer-full-summer-and-summer-i-
 classes
DTSTART;VALUE=DATE:20240611
DTEND;VALUE=DATE:20240612
END:VEVENT
END:VCALENDAR
