BEGIN:VCALENDAR
VERSION:2.0
PRODID:SchoolNow
CALSCALE:GREGORIAN
BEGIN:VEVENT
UID:bca69038-bf97-11ee-b36b-0a58a9feac02
DTSTAMP:20240130T174812Z
SUMMARY:Summer 2024- Last Day to Drop a Maymester class with a Grade of "W"
URL;VALUE=URI:https://www.ladelta.edu/calendar/5231506/summer-2024-last-day
 -to-drop-a-maymester-class-with-a-grade-of-w
DTSTART;VALUE=DATE:20240528
DTEND;VALUE=DATE:20240529
END:VEVENT
END:VCALENDAR
