BEGIN:VCALENDAR
VERSION:2.0
PRODID:SchoolNow
CALSCALE:GREGORIAN
BEGIN:VEVENT
UID:e32cc8d0-bf97-11ee-ad2f-0a58a9feac02
DTSTAMP:20240130T174916Z
SUMMARY:Summer 2024- Last Day to Drop a Summer I class with a Grade of "W"
URL;VALUE=URI:https://www.ladelta.edu/calendar/5231509/summer-2024-last-day
 -to-drop-a-summer-i-class-with-a-grade-of-w
DTSTART;VALUE=DATE:20240624
DTEND;VALUE=DATE:20240625
END:VEVENT
END:VCALENDAR
