BEGIN:VCALENDAR
VERSION:2.0
PRODID:SchoolNow
CALSCALE:GREGORIAN
BEGIN:VEVENT
UID:f2012612-bf97-11ee-bd26-0a58a9feac02
DTSTAMP:20240130T174941Z
SUMMARY:Summer 2024- Last Day to Drop a Summer II class with a Grade of "W"
URL;VALUE=URI:https://www.ladelta.edu/calendar/5231510/summer-2024-last-day
 -to-drop-a-summer-ii-class-with-a-grade-of-w
DTSTART;VALUE=DATE:20240723
DTEND;VALUE=DATE:20240724
END:VEVENT
END:VCALENDAR
