BEGIN:VCALENDAR
VERSION:2.0
PRODID:SchoolNow
CALSCALE:GREGORIAN
BEGIN:VEVENT
UID:01ea5a30-bf98-11ee-a83d-0a58a9feac02
DTSTAMP:20240130T175008Z
SUMMARY:Summer 2024- Maymester Final Exams
URL;VALUE=URI:https://www.ladelta.edu/calendar/5231511/summer-2024-maymeste
 r-final-exams
DTSTART;VALUE=DATE:20240530
DTEND;VALUE=DATE:20240531
END:VEVENT
END:VCALENDAR
