BEGIN:VCALENDAR
VERSION:2.0
PRODID:SchoolNow
CALSCALE:GREGORIAN
BEGIN:VEVENT
UID:2204ff28-bf98-11ee-aa27-0a58a9feac02
DTSTAMP:20240130T175102Z
SUMMARY:Summer 2024- Summer I Final Exams
URL;VALUE=URI:https://www.ladelta.edu/calendar/5231513/summer-2024-summer-i
 -final-exams
DTSTART;VALUE=DATE:20240627
DTEND;VALUE=DATE:20240628
END:VEVENT
END:VCALENDAR
