BEGIN:VCALENDAR
VERSION:2.0
PRODID:SchoolNow
CALSCALE:GREGORIAN
BEGIN:VEVENT
UID:4c4079d4-bf98-11ee-9104-0ea58a4995ad
DTSTAMP:20240130T175353Z
SUMMARY:Summer 2024- Maymester Final Grades Due at 12PM
URL;VALUE=URI:https://www.ladelta.edu/calendar/5231514/summer-2024-maymeste
 r-final-grades-due-at-12pm
DTSTART:20240531T170000Z
DTEND:20240531T180000Z
END:VEVENT
END:VCALENDAR
