BEGIN:VCALENDAR
VERSION:2.0
PRODID:SchoolNow
CALSCALE:GREGORIAN
BEGIN:VEVENT
UID:796633b8-bf98-11ee-9ec8-0a58a9feac02
DTSTAMP:20240130T175328Z
SUMMARY:Summer 2024- Extended Summer\, Full Summer\, and Summer II Final Gr
 ades Due at 12 PM
URL;VALUE=URI:https://www.ladelta.edu/calendar/5231515/summer-2024-extended
 -summer-full-summer-and-summer-ii-final-grades-due-at-12-pm
DTSTART:20240731T170000Z
DTEND:20240731T180000Z
END:VEVENT
END:VCALENDAR
