BEGIN:VCALENDAR
VERSION:2.0
PRODID:SchoolNow
CALSCALE:GREGORIAN
BEGIN:VEVENT
UID:ab7ab61c-bf98-11ee-a1ab-0a58a9feac02
DTSTAMP:20240619T154923Z
SUMMARY:Summer 2024-Summer I Final Grades Due at 12PM
URL;VALUE=URI:https://www.ladelta.edu/calendar/5231516/summer-2024-summer-i
 i-final-grades-due-at-12pm
DTSTART:20240628T170000Z
DTEND:20240628T180000Z
END:VEVENT
END:VCALENDAR
