BEGIN:VCALENDAR
VERSION:2.0
PRODID:SchoolNow
CALSCALE:GREGORIAN
BEGIN:VEVENT
UID:06f2ea3c-bf99-11ee-abea-02875ce537a3
DTSTAMP:20240130T175726Z
SUMMARY:Summer 2024- Memorial Day (All Campuses Closed)
URL;VALUE=URI:https://www.ladelta.edu/calendar/5231522/summer-2024-memorial
 -day-all-campuses-closed
DTSTART;VALUE=DATE:20240527
DTEND;VALUE=DATE:20240528
END:VEVENT
END:VCALENDAR
